BEGIN:VCALENDAR
VERSION:2.0
PRODID:spatie/icalendar-generator
DESCRIPTION:Events from Stanford in the Vale Parish Council
X-WR-CALDESC:Events from Stanford in the Vale Parish Council
REFRESH-INTERVAL;VALUE=DURATION:PT1440M
X-PUBLISHED-TTL:PT1440M
BEGIN:VTIMEZONE
TZID:Etc/GMT+0
BEGIN:STANDARD
DTSTART:20250308T193000Z
TZOFFSETFROM:+0000
TZOFFSETTO:+0000
END:STANDARD
END:VTIMEZONE
BEGIN:VTIMEZONE
TZID:UTC
BEGIN:STANDARD
DTSTART:20250726T083716Z
TZOFFSETFROM:+0000
TZOFFSETTO:+0000
END:STANDARD
END:VTIMEZONE
BEGIN:VEVENT
UID:16-2
DTSTAMP:20260422T083716Z
SUMMARY:PC Meeting
LOCATION:Village Hall Hunters Field  Stanford in the Vale Oxfordshire SN7 8
 LR
ORGANIZER;CN=webmgr:MAILTO:plewis.sitv@gmail.com
RRULE:FREQ=MONTHLY;BYDAY=1WE;UNTIL=20300807T000000Z
DTSTART;TZID=Etc/GMT+0:20251203T193000
DTEND;TZID=Etc/GMT+0:20251203T220000
X-ALT-DESC;FMTTYPE=TEXT/HTML:
CATEGORIES:General
URL;VALUE=URI:https://stanfordinthevale-pc.gov.uk/mc-events/pc-meeting/?mc_
 id=16
METHOD:PUBLISH
END:VEVENT
END:VCALENDAR